BEGIN:VCALENDAR
VERSION:2.0
PRODID:icalendar-ruby
CALSCALE:GREGORIAN
METHOD:PUBLISH
BEGIN:VEVENT
DTSTAMP:20260422T004635Z
UID:a43173de-851d-4e64-b44a-f58edcbf50d9
DTSTART:20260530T140000
DTEND:20260531T120000
DESCRIPTION:<p><span style="color: rgb(19\, 1\, 1)\;">Our original and belo
 ved Berg & Bush event\, the 2-Day is popular amongst family\, groups and a
 ll riders looking for fun in the saddle. Both days start and finish at the
  Em’seni race village\, with riders enjoying maximum fun and excitement 
 on the trails. Riders from ages 15 and above are welcome to enter.</span><
 /p>
LOCATION:Em'seni Camp R600\, Winterton
SUMMARY:Berg and Bush 2 Day 2026
URL;VALUE=URI:https://bergandbush.howler.co.za/2day2026
END:VEVENT
END:VCALENDAR
