BEGIN:VCALENDAR
VERSION:2.0
PRODID:icalendar-ruby
CALSCALE:GREGORIAN
METHOD:PUBLISH
BEGIN:VEVENT
DTSTAMP:20260421T220158Z
UID:92d4e84a-bb65-4135-af3b-2c602ff09a3c
DTSTART:20260605T140000
DTEND:20260607T150000
DESCRIPTION:<p><span style="color: rgb(19\, 1\, 1)\;">The Descent features 
 a one of a kind ride off the top of the Drakensberg mountains and into the
  bushveld below! The event for people who love riding bikes can experience
  fast fun and flowing trails in three days of whizz bang and wow!</span></
 p>
LOCATION:Em'seni Camp R600\, Winterton
SUMMARY:Berg and Bush The Descent 2026
URL;VALUE=URI:https://bergandbush.howler.co.za/descent2026
END:VEVENT
END:VCALENDAR
